Felt | Verdi |
AlreadyApplied | True |
Aperture | 10.0 |
ApertureValue | 10.0 |
ApproximateFocusDistance | 0.53 |
Artist | RONNY KJELLAND NARVIK-NORWAY |
AutoLateralCA | 0 |
BitsPerSample | 8 |
Blacks2012 | 0 |
BlueHue | 0 |
BlueSaturation | 0 |
Brightness | 0.000000 |
By-line | RONNY KJELLAND NARVIK-NORWAY |
CameraModelID | |
CameraProfile | Adobe Standard |
CFAPattern | [Red,Green][Green,Blue] |
CircleOfConfusion | 0.030 mm |
Clarity2012 | +17 |
ColorComponents | 3 |
ColorNoiseReduction | 25 |
ColorNoiseReductionDetail | 50 |
ColorTemperature | 4800 |
Contrast (1) | 13.124999 |
Contrast | Normal |
Contrast2012 | 0 |
ConvertToGrayscale | False |
Copyright | RONNY KJELLAND |
CopyrightNotice | RONNY KJELLAND |
CreateDate (1) | 2013:07:18 15:58:33.25 |
CreateDate | 2013:07:18 15:58:33 |
Creator | RONNY KJELLAND NARVIK-NORWAY |
CreatorTool | Microsoft Windows Live Photo Gallery 15.4.3555.308 |
CropAngle | 0 |
CropBottom | 0.617284 |
CropConstrainToWarp | 0 |
CropHeight | 4000 |
CropLeft | 0.464066 |
CropRight | 0.622177 |
CropTop | 0.370371 |
CropUnit | pixels |
CropWidth | 3849 |
CustomRendered | Normal |
DateCreated (1) | 2013:07:18 |
DateCreated | 2013:07:18 15:58:33.25 |
DateTimeOriginal | 2013:07:18 15:58:33 |
DefringeGreenAmount | 0 |
DefringeGreenHueHi | 60 |
DefringeGreenHueLo | 40 |
DefringePurpleAmount | 0 |
DefringePurpleHueHi | 70 |
DefringePurpleHueLo | 30 |
DigitalZoomRatio | 1 |
DOF | 0.012 m (0.524 - 0.536 m) |
Exposure2012 | +0.36 |
ExposureCompensation (1) | 0.000000 |
ExposureCompensation | -2 |
ExposureMode | Manual |
ExposureProgram | Manual |
ExposureTime | 1/40 |
Flash | On, Return detected |
FNumber | 10.0 |
FocalLength | 105.0 mm |
FocalLength35efl | 105.0 mm (35 mm equivalent: 105.0 mm) |
FocalLengthIn35mmFormat | 105 mm |
Format | image/jpeg |
FOV | 19.5 deg |
GainControl | None |
GrainAmount | 0 |
GreenHue | 0 |
GreenSaturation | 0 |
HasCrop | True |
HasSettings | True |
Highlights2012 | -24 |
HueAdjustmentAqua | 0 |
HueAdjustmentBlue | 0 |
HueAdjustmentGreen | 0 |
HueAdjustmentMagenta | 0 |
HueAdjustmentOrange | 0 |
HueAdjustmentPurple | 0 |
HueAdjustmentRed | 0 |
HueAdjustmentYellow | 0 |
HyperfocalDistance | 36.69 m |
ImageHeight | 3849 |
ImageNumber | 10172 |
ImageSize | 4000x3849 |
ImageWidth | 4000 |
ISO | 160 |
Lens | 105.0 mm f/2.8 |
LensID (1) | 138 |
LensID | AF-S VR Micro-Nikkor 105mm f/2.8G IF-ED |
LensInfo | 105mm f/2.8 |
LensManualDistortionAmount | 0 |
LensModel | 105.0 mm f/2.8 |
LensProfileEnable | 0 |
LensProfileSetup | LensDefaults |
LightSource | Unknown |
LightValue | 11.3 |
LuminanceAdjustmentAqua | 0 |
LuminanceAdjustmentBlue | 0 |
LuminanceAdjustmentGreen | 0 |
LuminanceAdjustmentMagenta | 0 |
LuminanceAdjustmentOrange | 0 |
LuminanceAdjustmentPurple | 0 |
LuminanceAdjustmentRed | 0 |
LuminanceAdjustmentYellow | 0 |
LuminanceNoiseReductionContrast | 0 |
LuminanceNoiseReductionDetail | 50 |
LuminanceSmoothing | 83 |
Make | NIKON CORPORATION |
MaxApertureValue | 3.2 |
Megapixels | 15.4 |
MeteringMode | Multi-segment |
Model | NIKON D700 |
ModifyDate (1) | 2013:07:18 17:26:35+02:00 |
ModifyDate | 2013:07:18 17:35:44 |
Orientation | Horizontal (normal) |
ParametricDarks | 0 |
ParametricHighlights | 0 |
ParametricHighlightSplit | 75 |
ParametricLights | 0 |
ParametricMidtoneSplit | 50 |
ParametricShadows | 0 |
ParametricShadowSplit | 25 |
PerspectiveHorizontal | 0 |
PerspectiveRotate | 0.0 |
PerspectiveScale | 100 |
PerspectiveVertical | 0 |
PipelineVersion | 01.00 |
PostCropVignetteAmount | 0 |
ProcessVersion | 6.7 |
ProfileDescription | sRGB IEC61966-2.1 |
RedHue | 0 |
RedSaturation | 0 |
Rights | RONNY KJELLAND |
Saturation (1) | +5 |
Saturation | Normal |
SaturationAdjustmentAqua | 0 |
SaturationAdjustmentBlue | 0 |
SaturationAdjustmentGreen | 0 |
SaturationAdjustmentMagenta | 0 |
SaturationAdjustmentOrange | 0 |
SaturationAdjustmentPurple | 0 |
SaturationAdjustmentRed | 0 |
SaturationAdjustmentYellow | 0 |
ScaleFactor35efl | 1.0 |
SceneCaptureType | Standard |
SceneType | Directly photographed |
SensingMethod | One-chip color area |
SerialNumber | 2319185 |
Shadows2012 | +26 |
ShadowTint | 0 |
SharpenDetail | 25 |
SharpenEdgeMasking | 0 |
SharpenRadius | +1.7 |
Sharpness (1) | 121 |
Sharpness | Normal |
ShutterSpeed | 1/40 |
ShutterSpeedValue | 1/40 |
Software | Adobe Photoshop Lightroom 4.4 (Windows) |
SplitToningBalance | 0 |
SplitToningHighlightHue | 0 |
SplitToningHighlightSaturation | 0 |
SplitToningShadowHue | 0 |
SplitToningShadowSaturation | 0 |
StreamType | 3 |
SubjectDistanceRange | Unknown |
Tint | -14 |
ToneCurveName2012 | Linear |
ToneCurvePV2012 | 0, 0, 255, 255 |
ToneCurvePV2012Blue | 0, 0, 255, 255 |
ToneCurvePV2012Green | 0, 0, 255, 255 |
ToneCurvePV2012Red | 0, 0, 255, 255 |
Version | 7.4 |
Vibrance | +10 |
VignetteAmount | 0 |
WhiteBalance (1) | As Shot |
WhiteBalance | Auto |
WhiteBalance0 | 2.497562 |
WhiteBalance1 | 1.000000 |
WhiteBalance2 | 1.051616 |
Whites2012 | 0 |