Felt | Verdi |
AlreadyApplied | True |
Artist | Knut Sigurd Raaberg |
BitsPerSample (1) | 16 16 16 |
BitsPerSample | 8 |
BlackClip | 0.010000 |
BlueHue | 0 |
BlueSaturation | 0 |
Brightness | 0 |
By-line | Knut Sigurd Raaberg |
CameraProfile | Embedded |
ChromaticAberrationB | 0 |
ChromaticAberrationR | 0 |
Clarity | +57 |
ColorComponents | 3 |
ColorMode | RGB |
ColorNoiseReduction | 0 |
ColorSaturation | 70.0 |
ColorSpace | Uncalibrated |
ColorTemperature | 0.0 |
Contrast | 0 |
ConvertToGrayscale | False |
Copyright | Knut Sigurd Raaberg |
CopyrightFlag | True |
CopyrightNotice | Knut Sigurd Raaberg |
CreateDate | 2012:10:23 14:38:14+02:00 |
Creator | Knut Sigurd Raaberg |
CreatorAddress | Ullinsv. 48b |
CreatorCity | TRONDHEIM |
CreatorCountry | NORWAY |
CreatorPostalCode | N-7033 |
CreatorTool | Adobe Photoshop Lightroom 3.3 |
CreatorWorkEmail | knutta@gmail.com |
CreatorWorkTelephone | (+47) 952 89 433 |
Defringe | 0 |
ExifImageHeight | 1000 |
ExifImageWidth | 667 |
Exposure | +0.55 |
ExposureTime | 1/850 |
FillLight | 0 |
Format | image/jpeg |
Gamma | 1.00 |
GrainAmount | 0 |
GreenHue | 0 |
GreenSaturation | 0 |
HasCrop | False |
HasSettings | True |
HighlightRecovery | 18 |
HighlightsSmoothing | 6.0 |
HueAdjustmentAqua | 0 |
HueAdjustmentBlue | 0 |
HueAdjustmentGreen | 0 |
HueAdjustmentMagenta | 0 |
HueAdjustmentOrange | 0 |
HueAdjustmentPurple | 0 |
HueAdjustmentRed | 0 |
HueAdjustmentYellow | 0 |
ICCProfileName | Adobe RGB (1998) |
ImageHeight (1) | 3861 |
ImageHeight | 1000 |
ImageSize | 667x1000 |
ImageWidth (1) | 2574 |
ImageWidth | 667 |
IncrementalTemperature | 0 |
IncrementalTint | 0 |
IsPano360 | No |
Keywords | ARK5, ARKITEKTUR, Berlin, HDR, Tyskland, photomatix |
LensManualDistortionAmount | 0 |
LensProfileEnable | 0 |
LensProfileSetup | LensDefaults |
LuminanceAdjustmentAqua | 0 |
LuminanceAdjustmentBlue | 0 |
LuminanceAdjustmentGreen | 0 |
LuminanceAdjustmentMagenta | 0 |
LuminanceAdjustmentOrange | 0 |
LuminanceAdjustmentPurple | 0 |
LuminanceAdjustmentRed | 0 |
LuminanceAdjustmentYellow | 0 |
LuminanceSmoothing | 0 |
Luminosity | 4.1 |
Marked | True |
Megapixels | 0.667 |
Method | Details Enhancer |
Microcontrast | 6.5 |
Microsmoothing | 3.0 |
ModifyDate (1) | 2012:11:30 17:24:55+01:00 |
ModifyDate | 2012:11:30 17:24:55 |
Orientation | Horizontal (normal) |
ParametricDarks | 0 |
ParametricHighlights | 0 |
ParametricHighlightSplit | 75 |
ParametricLights | 0 |
ParametricMidtoneSplit | 50 |
ParametricShadows | 0 |
ParametricShadowSplit | 25 |
PerspectiveHorizontal | 0 |
PerspectiveRotate | 0.0 |
PerspectiveScale | 100 |
PerspectiveVertical | 0 |
PhotometricInterpretation | RGB |
PlanarConfiguration | Chunky |
PostCropVignetteAmount | 0 |
ProcessVersion | 5.7 |
ProfileDescription | Adobe RGB (1998) |
RedHue | 0 |
RedSaturation | 0 |
Rights | Knut Sigurd Raaberg |
Saturation | 0 |
SaturationAdjustmentAqua | 0 |
SaturationAdjustmentBlue | 0 |
SaturationAdjustmentGreen | 0 |
SaturationAdjustmentMagenta | 0 |
SaturationAdjustmentOrange | 0 |
SaturationAdjustmentPurple | 0 |
SaturationAdjustmentRed | 0 |
SaturationAdjustmentYellow | 0 |
SaturationHighlights | 0.0 |
SaturationShadows | 0.0 |
SensitivityType | Unknown |
Shadows | 12 |
ShadowsClipping | 0.0 |
ShadowsSmoothing | 0.0 |
ShadowTint | 0 |
SharpenDetail | 25 |
SharpenEdgeMasking | 0 |
SharpenRadius | +1.0 |
Sharpness | 0 |
ShutterSpeed | 1/850 |
ShutterSpeedValue | 1/850 |
Smoothing | High |
SmoothingMode | Light |
Software | Adobe Photoshop CS5 Macintosh |
SplitToningBalance | 0 |
SplitToningHighlightHue | 0 |
SplitToningHighlightSaturation | 0 |
SplitToningShadowHue | 0 |
SplitToningShadowSaturation | 0 |
Strength | 98.0 |
Subject | ARK5, ARKITEKTUR, Berlin, HDR, Tyskland, photomatix |
ToneCurve | 0, 0, 255, 255 |
ToneCurveName | Linear |
URL_List | |
UsageTerms | NO USE ALLOWED WITHOUT SPECIFIC WRITTEN CONSENT |
Version (1) | 4.1 |
Version | 6.3 |
Vibrance | +30 |
VignetteAmount | 0 |
WhiteBalance | As Shot |
WhiteClip | 0.500000 |