Felt | Verdi |
AlreadyApplied | True |
Aperture | 5.6 |
ApertureValue | 5.6 |
ApproximateFocusDistance | 9.44 |
Artist | Øyvind Andersen |
BitsPerSample | 8 |
BlueHue | 0 |
BlueSaturation | 0 |
Brightness | +56 |
By-line | Øyvind Andersen |
CameraProfile | Adobe Standard |
CFAPattern | [Green,Blue][Red,Green] |
ChromaticAberrationB | 0 |
ChromaticAberrationR | 0 |
CircleOfConfusion | 0.020 mm |
Clarity | +50 |
ColorComponents | 3 |
ColorNoiseReduction | 40 |
ColorNoiseReductionDetail | 50 |
ColorTemperature | 5500 |
Contrast (1) | +35 |
Contrast | High |
ConvertToGrayscale | False |
Copyright | Øyvind Andersen |
CopyrightFlag | True |
CopyrightNotice | Øyvind Andersen |
CreateDate (1) | 2011:08:20 17:09:13.20 |
CreateDate | 2011:08:20 17:09:13 |
Creator | Øyvind Andersen |
CreatorTool | Adobe Photoshop Lightroom 3.4.1 |
CropAngle | 0 |
CropBottom | 0.789588 |
CropConstrainToWarp | 0 |
CropHeight | 2041 |
CropLeft | 0.272859 |
CropRight | 0.703919 |
CropTop | 0.002169 |
CropUnit | pixels |
CropWidth | 1669 |
CustomRendered | Normal |
DateCreated (1) | 2011:08:20 |
DateCreated | 2011:08:20 17:09:13.20 |
DateTimeOriginal | 2011:08:20 17:09:13 |
Defringe | 0 |
DigitalZoomRatio | 1 |
DOF | 0.22 m (9.33 - 9.55 m) |
Exposure | +0.10 |
ExposureCompensation | 0 |
ExposureMode | Auto |
ExposureProgram | Aperture-priority AE |
ExposureTime | 1/2500 |
FillLight | 30 |
Flash | No Flash |
FNumber | 5.6 |
FocalLength | 300.0 mm |
FocalLength35efl | 300.0 mm (35 mm equivalent: 450.0 mm) |
FocalLengthIn35mmFormat | 450 mm |
FOV | 4.6 deg |
GainControl | Low gain up |
GrainAmount | 0 |
GreenHue | 0 |
GreenSaturation | 0 |
HasCrop | True |
HasSettings | True |
HighlightRecovery | 80 |
HueAdjustmentAqua | 0 |
HueAdjustmentBlue | 0 |
HueAdjustmentGreen | 0 |
HueAdjustmentMagenta | 0 |
HueAdjustmentOrange | 0 |
HueAdjustmentPurple | 0 |
HueAdjustmentRed | 0 |
HueAdjustmentYellow | 0 |
HyperfocalDistance | 802.33 m |
ImageHeight | 2041 |
ImageNumber | 27613 |
ImageSize | 1669x2041 |
ImageWidth | 1669 |
ISO | 400 |
Lens | 70.0-300.0 mm f/4.5-5.6 |
LensID (1) | 141 |
LensID | AF-S VR Zoom-Nikkor 70-300mm f/4.5-5.6G IF-ED |
LensInfo | 70-300mm f/4.5-5.6 |
LensManualDistortionAmount | 0 |
LensModel | 70.0-300.0 mm f/4.5-5.6 |
LensProfileChromaticAberrationScale | 100 |
LensProfileDistortionScale | 100 |
LensProfileEnable | 1 |
LensProfileFilename | NIKON D700 (Nikon FX 70-300mm f4.5-5.6 G IF-ED VR) - RAW.lcp |
LensProfileName | Adobe (Nikon AF-S VR Zoom-Nikkor 70-300mm f/4.5-5.6G IF-ED) |
LensProfileSetup | LensDefaults |
LensProfileVignettingScale | 100 |
LightSource | Fine Weather |
LightValue | 14.3 |
LuminanceAdjustmentAqua | 0 |
LuminanceAdjustmentBlue | 0 |
LuminanceAdjustmentGreen | 0 |
LuminanceAdjustmentMagenta | 0 |
LuminanceAdjustmentOrange | 0 |
LuminanceAdjustmentPurple | 0 |
LuminanceAdjustmentRed | 0 |
LuminanceAdjustmentYellow | 0 |
LuminanceNoiseReductionContrast | 0 |
LuminanceNoiseReductionDetail | 50 |
LuminanceSmoothing | 40 |
Make | NIKON CORPORATION |
Marked | True |
MaxApertureValue | 5.7 |
Megapixels | 3.4 |
MeteringMode | Multi-segment |
Model | NIKON D60 |
ModifyDate (1) | 2011:08:20 21:42:53+02:00 |
ModifyDate | 2011:08:20 21:42:53 |
ParametricDarks | 0 |
ParametricHighlights | 0 |
ParametricHighlightSplit | 75 |
ParametricLights | 0 |
ParametricMidtoneSplit | 50 |
ParametricShadows | 0 |
ParametricShadowSplit | 25 |
PerspectiveHorizontal | 0 |
PerspectiveRotate | 0.0 |
PerspectiveScale | 100 |
PerspectiveVertical | 0 |
PostCropVignetteAmount | 0 |
ProcessVersion | 5.7 |
ProfileDescription | sRGB IEC61966-2.1 |
Rating | 2 |
RatingPercent | 0 |
RedHue | 0 |
RedSaturation | 0 |
Rights | Øyvind Andersen |
Saturation (1) | +10 |
Saturation | Normal |
SaturationAdjustmentAqua | 0 |
SaturationAdjustmentBlue | 0 |
SaturationAdjustmentGreen | 0 |
SaturationAdjustmentMagenta | 0 |
SaturationAdjustmentOrange | 0 |
SaturationAdjustmentPurple | 0 |
SaturationAdjustmentRed | 0 |
SaturationAdjustmentYellow | 0 |
ScaleFactor35efl | 1.5 |
SceneCaptureType | Standard |
SceneType | Directly photographed |
SensingMethod | One-chip color area |
SerialNumber | 6211227 |
Shadows | 10 |
ShadowTint | 0 |
SharpenDetail | 20 |
SharpenEdgeMasking | 80 |
SharpenRadius | +1.0 |
Sharpness (1) | 100 |
Sharpness | Normal |
ShutterSpeed | 1/2500 |
ShutterSpeedValue | 1/2500 |
Software | Adobe Photoshop Lightroom 3.4.1 |
SplitToningBalance | 0 |
SplitToningHighlightHue | 0 |
SplitToningHighlightSaturation | 0 |
SplitToningShadowHue | 0 |
SplitToningShadowSaturation | 0 |
SubjectDistance | 9.44 m |
SubjectDistanceRange | Unknown |
Tint | +10 |
ToneCurve | 0, 0, 32, 22, 64, 56, 128, 128, 192, 196, 255, 255 |
ToneCurveName | Medium Contrast |
Version | 6.4.1 |
Vibrance | +30 |
VignetteAmount | 0 |
WhiteBalance (1) | Daylight |
WhiteBalance | Manual |