Felt | Verdi |
AlreadyApplied | True |
Aperture | 4.0 |
ApertureValue | 4.0 |
Artist | Alexander Evensen |
BitsPerSample | 8 |
BlueHue | 0 |
BlueSaturation | 0 |
Brightness | +5 |
By-line | Alexander Evensen |
CameraProfile | Adobe Standard |
Caption-Abstract | A fox have caught a bird in the night and is running towards a place to eat it. |
ChromaticAberrationB | 0 |
ChromaticAberrationR | 0 |
CircleOfConfusion | 0.020 mm |
City | Kjøllefjord |
Clarity | 0 |
ColorComponents | 3 |
ColorMode | RGB |
ColorNoiseReduction | 25 |
ColorSpace | sRGB |
ColorTemperature | 5400 |
Contrast (2) | +25 |
Contrast | Normal |
ConvertToGrayscale | False |
Copyright | Alexander Evensen |
CopyrightNotice | Alexander Evensen |
Country | Norway |
Country-PrimaryLocationName | Norway |
CreateDate (1) | 2010:06:30 04:06:34+02:00 |
CreateDate | 2010:06:30 04:06:34 |
Creator | Alexander Evensen |
CreatorAddress | Altaveien 226 |
CreatorCity | Alta |
CreatorCountry | Norway |
CreatorPostalCode | 9515 |
CreatorRegion | Finnmark |
CreatorTool | K-x Ver 1.01 |
CreatorWorkEmail | alexander.evensen@gmail.com |
CreatorWorkTelephone | +4747231808 |
CreatorWorkURL | http://netrex.deviantart.com/ |
CropAngle | 0 |
CropBottom | 0.76757 |
CropLeft | 0.172209 |
CropRight | 0.785782 |
CropTop | 0.153996 |
CustomRendered | Normal |
DateTimeDigitized | 2010:06:30 04:06:34+02:00 |
DateTimeOriginal (1) | 2010:06:30 04:06:34+02:00 |
DateTimeOriginal | 2010:06:30 04:06:34 |
Defringe | 0 |
Description | A fox have caught a bird in the night and is running towards a place to eat it. |
ExifImageHeight | 564 |
ExifImageWidth | 850 |
Exposure | +2.85 |
ExposureCompensation | 0 |
ExposureMode | Manual |
ExposureProgram | Manual |
ExposureTime | 1/1600 |
FillLight | 0 |
Flash | Off, Did not fire |
FlashFired | False |
FlashFunction | False |
FlashMode | Off |
FlashRedEyeMode | False |
FlashReturn | No return detection |
FNumber | 4.0 |
FocalLength | 250.0 mm |
FocalLength35efl | 250.0 mm (35 mm equivalent: 375.0 mm) |
FocalLengthIn35mmFormat | 375 mm |
Format | image/jpeg |
FOV | 5.5 deg |
GrainAmount | 0 |
GreenHue | 0 |
GreenSaturation | 0 |
HasCrop | True |
HasSettings | True |
HighlightRecovery | 0 |
HueAdjustmentAqua | 0 |
HueAdjustmentBlue | 0 |
HueAdjustmentGreen | 0 |
HueAdjustmentMagenta | 0 |
HueAdjustmentOrange | 0 |
HueAdjustmentPurple | 0 |
HueAdjustmentRed | 0 |
HueAdjustmentYellow | 0 |
HyperfocalDistance | 780.05 m |
ICCProfileName | sRGB IEC61966-2.1 |
ImageDescription | A fox have caught a bird in the night and is running towards a place to eat it. |
ImageHeight | 564 |
ImageSize | 850x564 |
ImageWidth | 850 |
ISO | 400 |
Keywords | fox, bird, food, wildlife, summer |
LensID (1) | 8 227 |
LensID | smc PENTAX-DA* 60-250mm F4 [IF] SDM |
LightValue | 12.6 |
LuminanceAdjustmentAqua | 0 |
LuminanceAdjustmentBlue | 0 |
LuminanceAdjustmentGreen | 0 |
LuminanceAdjustmentMagenta | 0 |
LuminanceAdjustmentOrange | 0 |
LuminanceAdjustmentPurple | 0 |
LuminanceAdjustmentRed | 0 |
LuminanceAdjustmentYellow | 0 |
LuminanceSmoothing | 20 |
Make | PENTAX |
Megapixels | 0.479 |
MeteringMode | Multi-segment |
Model | PENTAX K-x |
ModifyDate (1) | 2010:07:10 03:02:32+02:00 |
ModifyDate | 2010:07:10 03:02:32 |
Orientation | Horizontal (normal) |
ParametricDarks | 0 |
ParametricHighlights | 0 |
ParametricHighlightSplit | 75 |
ParametricLights | 0 |
ParametricMidtoneSplit | 50 |
ParametricShadows | 0 |
ParametricShadowSplit | 25 |
PostCropVignetteAmount | 0 |
ProcessVersion | 5.0 |
ProfileDescription | sRGB IEC61966-2.1 |
Province-State | Finnmark |
Rating | 0 |
RawFileName | _IGP7525.DNG |
RedHue | 0 |
RedSaturation | 0 |
Rights | Alexander Evensen |
Saturation (2) | 0 |
Saturation | Normal |
SaturationAdjustmentAqua | 0 |
SaturationAdjustmentBlue | 0 |
SaturationAdjustmentGreen | 0 |
SaturationAdjustmentMagenta | 0 |
SaturationAdjustmentOrange | 0 |
SaturationAdjustmentPurple | 0 |
SaturationAdjustmentRed | 0 |
SaturationAdjustmentYellow | 0 |
ScaleFactor35efl | 1.5 |
SceneCaptureType | Standard |
SensingMethod | One-chip color area |
Shadows | 0 |
ShadowTint | 0 |
SharpenDetail | 25 |
SharpenEdgeMasking | 0 |
SharpenRadius | +1.0 |
Sharpness (2) | 0 |
Sharpness | Normal |
ShutterSpeed | 1/1600 |
ShutterSpeedValue | 1/1600 |
Software | Adobe Photoshop CS4 Windows |
SplitToningBalance | 0 |
SplitToningHighlightHue | 0 |
SplitToningHighlightSaturation | 0 |
SplitToningShadowHue | 0 |
SplitToningShadowSaturation | 0 |
State | Finnmark |
Subject | fox, bird, food, wildlife, summer |
SubjectDistanceRange | Distant |
Tint | 0 |
ToneCurve | 0, 0, 19, 12, 159, 168, 255, 255 |
ToneCurveName | Custom |
URL_List | |
Version | 5.7 |
Vibrance | +25 |
VignetteAmount | 0 |
WhiteBalance (2) | Custom |
WhiteBalance | Auto |