Felt | Verdi |
AlreadyApplied | True |
Aperture | 4.0 |
ApertureValue | 4.0 |
BitsPerSample | 8 |
BlueHue | +12 |
BlueSaturation | -29 |
Brightness | +54 |
CameraProfile | Embedded |
ChromaticAberrationB | 0 |
ChromaticAberrationR | 0 |
CircleOfConfusion | 0.024 mm |
Clarity | +10 |
ColorComponents | 3 |
ColorMode | RGB |
ColorNoiseReduction | 25 |
ColorSpace | sRGB |
Contrast | +16 |
ConvertToGrayscale | False |
CopyrightFlag | False |
CreateDate (1) | 2010:05:04 19:11:25+02:00 |
CreateDate | 2010:04:04 14:07:31 |
CreatorTool | Adobe Photoshop CS3 Windows |
CustomRendered | Normal |
DateAcquired | 2010:04:10 11:38:40.244 |
DateTimeDigitized | 2010:04:04 14:07:31+02:00 |
DateTimeOriginal (1) | 2010:04:04 14:07:31+02:00 |
DateTimeOriginal | 2010:04:04 14:07:31 |
Defringe | 0 |
ExifImageHeight | 667 |
ExifImageWidth | 1000 |
Exposure | -0.65 |
ExposureCompensation | 0 |
ExposureMode | Manual |
ExposureProgram | Manual |
ExposureTime | 1/100 |
FillLight | 18 |
Flash | Off, Did not fire |
FlashFired | False |
FlashFunction | False |
FlashMode | Off |
FlashRedEyeMode | False |
FlashReturn | No return detection |
FNumber | 4.0 |
FocalLength | 29.0 mm |
FocalLength35efl | 29.0 mm (35 mm equivalent: 36.2 mm) |
Format | image/jpeg |
FOV | 52.9 deg |
GreenHue | +16 |
GreenSaturation | +51 |
HasCrop | False |
HasSettings | True |
HighlightRecovery | 5 |
HueAdjustmentAqua | 0 |
HueAdjustmentBlue | 0 |
HueAdjustmentGreen | -1 |
HueAdjustmentMagenta | +17 |
HueAdjustmentOrange | +15 |
HueAdjustmentPurple | 0 |
HueAdjustmentRed | +33 |
HueAdjustmentYellow | 0 |
HyperfocalDistance | 8.74 m |
ICCProfileName | sRGB IEC61966-2.1 |
ImageHeight (1) | 2336 |
ImageHeight | 667 |
ImageSize | 1000x667 |
ImageWidth (1) | 3504 |
ImageWidth | 1000 |
IncrementalTemperature | +43 |
IncrementalTint | +10 |
ISO | 800 |
LightValue | 7.6 |
LuminanceAdjustmentAqua | 0 |
LuminanceAdjustmentBlue | 0 |
LuminanceAdjustmentGreen | 0 |
LuminanceAdjustmentMagenta | 0 |
LuminanceAdjustmentOrange | 0 |
LuminanceAdjustmentPurple | 0 |
LuminanceAdjustmentRed | 0 |
LuminanceAdjustmentYellow | 0 |
LuminanceSmoothing | 0 |
Make | Canon |
Megapixels | 0.667 |
MeteringMode | Multi-segment |
Model | Canon EOS-1D Mark II |
ModifyDate (1) | 2010:05:04 19:11:25+02:00 |
ModifyDate | 2010:05:04 19:11:25 |
Orientation | Horizontal (normal) |
PaintCorrectionActive | true |
PaintCorrectionAmount | 1.000000 |
PaintCorrectionBrightness (1) | 0.000000 |
PaintCorrectionBrightness | 0.250000 |
PaintCorrectionClarity | 0.000000 |
PaintCorrectionContrast | 0.000000 |
PaintCorrectionExposure | 0.000000 |
PaintCorrectionHue | 0.000000 |
PaintCorrectionMaskCenterWeight (8) | 0.000000 |
PaintCorrectionMaskCenterWeight | 0.228952 |
PaintCorrectionMaskFlow (4) | 1.000000 |
PaintCorrectionMaskFlow | 0.678000 |
PaintCorrectionMaskRadius (2) | 0.110987 |
PaintCorrectionMaskRadius (3) | 0.102989 |
PaintCorrectionMaskRadius (4) | 0.019399 |
PaintCorrectionMaskRadius (5) | 0.078080 |
PaintCorrectionMaskRadius (7) | 0.294803 |
PaintCorrectionMaskRadius | 0.184477 |
PaintCorrectionMaskValue (4) | 1.000000 |
PaintCorrectionMaskValue | 0.813000 |
PaintCorrectionMaskWhat | Mask/Paint |
PaintCorrectionSaturation | 0.000000 |
PaintCorrectionSharpness (1) | 0.573333 |
PaintCorrectionSharpness | 0.000000 |
PaintCorrectionWhat | Correction |
ParametricDarks | -17 |
ParametricHighlights | 0 |
ParametricHighlightSplit | 90 |
ParametricLights | +23 |
ParametricMidtoneSplit | 63 |
ParametricShadows | 0 |
ParametricShadowSplit | 10 |
PostCropVignetteAmount | -33 |
PostCropVignetteFeather | 85 |
PostCropVignetteMidpoint | 52 |
PostCropVignetteRoundness | +26 |
ProfileDescription | sRGB IEC61966-2.1 |
RedHue | +29 |
RedSaturation | +2 |
Saturation | -87 |
SaturationAdjustmentAqua | 0 |
SaturationAdjustmentBlue | 0 |
SaturationAdjustmentGreen | 0 |
SaturationAdjustmentMagenta | 0 |
SaturationAdjustmentOrange | 0 |
SaturationAdjustmentPurple | 0 |
SaturationAdjustmentRed | 0 |
SaturationAdjustmentYellow | 0 |
ScaleFactor35efl | 1.2 |
SceneCaptureType | Standard |
Shadows | 13 |
ShadowTint | +4 |
SharpenDetail | 42 |
SharpenEdgeMasking | 10 |
SharpenRadius | +1.0 |
Sharpness | 96 |
ShutterSpeed | 1/100 |
ShutterSpeedValue | 1/100 |
Software | Adobe Photoshop CS3 Windows |
SplitToningBalance | 0 |
SplitToningHighlightHue | 215 |
SplitToningHighlightSaturation | 32 |
SplitToningShadowHue | 240 |
SplitToningShadowSaturation | 29 |
ToneCurve | 0, 0, 255, 255 |
ToneCurveName | Linear |
URL_List | |
Version | 5.6 |
Vibrance | 0 |
VignetteAmount | -100 |
VignetteMidpoint | 24 |
WhiteBalance (2) | Custom |
WhiteBalance | Auto |