Felt | Verdi |
AlreadyApplied | True |
Aperture | 7.1 |
ApertureValue | 7.1 |
BitsPerSample | 8 |
BlueHue | 0 |
BlueSaturation | 0 |
Brightness | 0 |
CameraProfile | Embedded |
ChromaticAberrationB | 0 |
ChromaticAberrationR | 0 |
CircleOfConfusion | 0.019 mm |
Clarity | 0 |
ColorComponents | 3 |
ColorNoiseReduction | 0 |
Contrast | 0 |
ConvertToGrayscale | False |
CreateDate (1) | 2009:09:26 10:24:54.00+02:00 |
CreateDate | 2009:09:26 10:24:54 |
CreatorTool | Adobe Photoshop Lightroom |
CustomRendered | Normal |
DateTimeDigitized | 2009:09:26 10:24:54.00+02:00 |
DateTimeOriginal (1) | 2009:09:26 10:24:54.00+02:00 |
DateTimeOriginal | 2009:09:26 10:24:54 |
Defringe | 0 |
ExifImageHeight | 2592 |
ExifImageWidth | 3888 |
Exposure | 0.00 |
ExposureCompensation | 0 |
ExposureMode | Auto |
ExposureProgram | Program AE |
ExposureTime | 1/500 |
FillLight | 0 |
Firmware | 1.1.1 |
Flash | Off, Did not fire |
FlashCompensation | 0 |
FlashFired | False |
FlashFunction | False |
FlashMode | Off |
FlashRedEyeMode | False |
FlashReturn | No return detection |
FNumber | 7.1 |
FocalLength | 200.0 mm |
FocalLength35efl | 200.0 mm (35 mm equivalent: 323.8 mm) |
FOV | 6.4 deg |
GreenHue | 0 |
GreenSaturation | 0 |
HasCrop | False |
HasSettings | True |
HighlightRecovery | 0 |
HueAdjustmentAqua | 0 |
HueAdjustmentBlue | 0 |
HueAdjustmentGreen | -25 |
HueAdjustmentMagenta | 0 |
HueAdjustmentOrange | -19 |
HueAdjustmentPurple | 0 |
HueAdjustmentRed | -25 |
HueAdjustmentYellow | -19 |
HyperfocalDistance | 303.53 m |
ImageHeight | 2592 |
ImageNumber | 0 |
ImageSize | 3888x2592 |
ImageWidth | 3888 |
IncrementalTemperature | +13 |
IncrementalTint | +13 |
ISO | 200 |
Keywords | jakt-overnattingstur pŒ Saltfjellet |
Lens | EF70-200mm f/4L USM |
LensInfo | 70-200mm f/? |
LightValue | 13.6 |
LuminanceAdjustmentAqua | 0 |
LuminanceAdjustmentBlue | 0 |
LuminanceAdjustmentGreen | 0 |
LuminanceAdjustmentMagenta | 0 |
LuminanceAdjustmentOrange | 0 |
LuminanceAdjustmentPurple | 0 |
LuminanceAdjustmentRed | +2 |
LuminanceAdjustmentYellow | 0 |
LuminanceSmoothing | 0 |
Make | Canon |
MaxApertureValue | 4.0 |
Megapixels | 10.1 |
MeteringMode | Multi-segment |
Model | Canon EOS 40D |
ModifyDate (1) | 2009:10:11 17:29:57+02:00 |
ModifyDate | 2009:10:11 17:29:57 |
ParametricDarks | 0 |
ParametricHighlights | 0 |
ParametricHighlightSplit | 75 |
ParametricLights | 0 |
ParametricMidtoneSplit | 50 |
ParametricShadows | 0 |
ParametricShadowSplit | 25 |
PostCropVignetteAmount | 0 |
ProfileDescription | sRGB IEC61966-2.1 |
Rating | 4 |
RedHue | 0 |
RedSaturation | 0 |
Saturation | 0 |
SaturationAdjustmentAqua | 0 |
SaturationAdjustmentBlue | 0 |
SaturationAdjustmentGreen | 0 |
SaturationAdjustmentMagenta | 0 |
SaturationAdjustmentOrange | 0 |
SaturationAdjustmentPurple | 0 |
SaturationAdjustmentRed | +17 |
SaturationAdjustmentYellow | 0 |
ScaleFactor35efl | 1.6 |
SceneCaptureType | Standard |
SerialNumber | 2431201682 |
Shadows | 0 |
ShadowTint | 0 |
SharpenDetail | 25 |
SharpenEdgeMasking | 0 |
SharpenRadius | +1.0 |
Sharpness | 0 |
ShutterSpeed | 1/500 |
ShutterSpeedValue | 1/500 |
SplitToningBalance | 0 |
SplitToningHighlightHue | 0 |
SplitToningHighlightSaturation | 0 |
SplitToningShadowHue | 0 |
SplitToningShadowSaturation | 0 |
Subject | jakt-overnattingstur på Saltfjellet |
ToneCurve | 0, 0, 255, 255 |
ToneCurveName | Linear |
Version | 5.4 |
Vibrance | 0 |
VignetteAmount | 0 |
WhiteBalance (2) | Custom |
WhiteBalance | Auto |