Felt | Verdi |
AlreadyApplied | True |
Artist | Geir Edvardsen |
AutoLateralCA | 0 |
AutoWhiteVersion | 134348800 |
BitsPerSample | 8 |
Blacks2012 | 0 |
BlueHue | 0 |
BlueSaturation | 0 |
By-line | Geir Edvardsen |
CameraProfile | Adobe Standard |
CircleOfConfusion | 0.030 mm |
Clarity2012 | +36 |
ColorComponents | 3 |
ColorNoiseReduction | 25 |
ColorNoiseReductionDetail | 50 |
ColorNoiseReductionSmoothness | 50 |
ColorSpace | sRGB |
ColorTemperature | 3900 |
ColorTransform | YCbCr |
Contrast2012 | 0 |
ConvertToGrayscale | False |
CreateDate (1) | 2015:10:26 18:49:01.00 |
CreateDate | 2015:10:26 18:49:01 |
Creator | Geir Edvardsen |
CreatorTool | Adobe Photoshop Camera Raw 9.1.1 (Macintosh) |
CustomRendered | Normal |
DateCreated (1) | 2015:10:26 |
DateCreated | 2015:10:26 18:49:01.00 |
DateTimeOriginal | 2015:10:26 18:49:01 |
DefringeGreenAmount | 0 |
DefringeGreenHueHi | 60 |
DefringeGreenHueLo | 40 |
DefringePurpleAmount | 0 |
DefringePurpleHueHi | 70 |
DefringePurpleHueLo | 30 |
Dehaze | 0 |
Exposure2012 | +1.00 |
ExposureCompensation | 0 |
ExposureMode | Manual |
ExposureProgram | Manual |
ExposureTime | 30 |
Firmware | 1.2.3 |
Flash | Off, Did not fire |
FlashCompensation | 0 |
Format | image/jpeg |
GrainAmount | 0 |
GreenHue | 0 |
GreenSaturation | 0 |
HasCrop | False |
HasSettings | True |
Highlights2012 | -63 |
HueAdjustmentAqua | 0 |
HueAdjustmentBlue | 0 |
HueAdjustmentGreen | 0 |
HueAdjustmentMagenta | 0 |
HueAdjustmentOrange | 0 |
HueAdjustmentPurple | 0 |
HueAdjustmentRed | 0 |
HueAdjustmentYellow | 0 |
ImageHeight | 3840 |
ImageNumber | 0 |
ImageSize | 5760x3840 |
ImageWidth | 5760 |
ISO | 100 |
LensManualDistortionAmount | 0 |
LensProfileEnable | 0 |
LensProfileSetup | LensDefaults |
LensSerialNumber | 0000000000 |
LuminanceAdjustmentAqua | 0 |
LuminanceAdjustmentBlue | 0 |
LuminanceAdjustmentGreen | 0 |
LuminanceAdjustmentMagenta | 0 |
LuminanceAdjustmentOrange | 0 |
LuminanceAdjustmentPurple | 0 |
LuminanceAdjustmentRed | 0 |
LuminanceAdjustmentYellow | 0 |
LuminanceSmoothing | 0 |
Make | Canon |
Megapixels | 22.1 |
MeteringMode | Multi-segment |
Model | Canon EOS 5D Mark III |
ModifyDate (1) | 2015:10:27 00:05:40+01:00 |
ModifyDate | 2015:10:27 00:05:40 |
ParametricDarks | 0 |
ParametricHighlights | 0 |
ParametricHighlightSplit | 75 |
ParametricLights | 0 |
ParametricMidtoneSplit | 50 |
ParametricShadows | 0 |
ParametricShadowSplit | 25 |
PerspectiveAspect | 0 |
PerspectiveHorizontal | 0 |
PerspectiveRotate | 0.0 |
PerspectiveScale | 100 |
PerspectiveUpright | 0 |
PerspectiveVertical | 0 |
PostCropVignetteAmount | 0 |
ProcessVersion | 6.7 |
ProfileDescription | Adobe RGB (1998) |
RawFileName | CZ3A9009.CR2 |
RecommendedExposureIndex | 100 |
RedHue | 0 |
RedSaturation | 0 |
Saturation | 0 |
SaturationAdjustmentAqua | 0 |
SaturationAdjustmentBlue | 0 |
SaturationAdjustmentGreen | 0 |
SaturationAdjustmentMagenta | 0 |
SaturationAdjustmentOrange | 0 |
SaturationAdjustmentPurple | 0 |
SaturationAdjustmentRed | 0 |
SaturationAdjustmentYellow | 0 |
ScaleFactor35efl | 1.0 |
SceneCaptureType | Standard |
SensitivityType | Recommended Exposure Index |
SerialNumber | 293022004673 |
Shadows2012 | +59 |
ShadowTint | 0 |
SharpenDetail | 25 |
SharpenEdgeMasking | 0 |
SharpenRadius | +1.0 |
Sharpness | 25 |
ShutterSpeed | 30 |
ShutterSpeedValue | 30 |
Software | Adobe Photoshop Camera Raw 9.1.1 (Macintosh) |
SplitToningBalance | 0 |
SplitToningHighlightHue | 0 |
SplitToningHighlightSaturation | 0 |
SplitToningShadowHue | 0 |
SplitToningShadowSaturation | 0 |
Tint | +25 |
ToneCurve | 0, 0, 32, 22, 64, 56, 128, 128, 192, 196, 255, 255 |
ToneCurveBlue | 0, 0, 255, 255 |
ToneCurveGreen | 0, 0, 255, 255 |
ToneCurveName | Medium Contrast |
ToneCurveName2012 | Linear |
ToneCurvePV2012 | 0, 0, 255, 255 |
ToneCurvePV2012Blue | 0, 0, 255, 255 |
ToneCurvePV2012Green | 0, 0, 255, 255 |
ToneCurvePV2012Red | 0, 0, 255, 255 |
ToneCurveRed | 0, 0, 255, 255 |
ToneMapStrength | 0 |
Version | 9.1.1 |
Vibrance | 0 |
VignetteAmount | 0 |
WhiteBalance (1) | As Shot |
WhiteBalance | Auto |
Whites2012 | -62 |