Felt | Verdi |
AlreadyApplied | True |
Aperture | 6.5 |
ApertureValue | 6.5 |
ApproximateFocusDistance | 24 |
Artist | Ole Bredesen-Vestby |
AutoLateralCA | 0 |
AutoWhiteVersion | 134348800 |
BitsPerSample | 8 |
Blacks2012 | -43 |
BlueHue | 0 |
BlueSaturation | 0 |
By-line | Ole Bredesen-Vestby |
CameraProfile | Adobe Standard |
CircleOfConfusion | 0.005 mm |
Clarity2012 | 0 |
ColorComponents | 3 |
ColorNoiseReduction | 25 |
ColorNoiseReductionDetail | 50 |
ColorNoiseReductionSmoothness | 50 |
ColorSpace | sRGB |
ColorTemperature | 5250 |
ColorTransform | YCbCr |
Contrast2012 | +29 |
ConvertToGrayscale | False |
Copyright | Ole Bredesen-Vestby |
CopyrightFlag | True |
CopyrightNotice | Ole Bredesen-Vestby |
CreateDate | 2014:07:22 21:43:46 |
Creator | Ole Bredesen-Vestby |
CreatorCountry | Norway |
CreatorTool | Adobe Photoshop Lightroom 5.6 (Windows) |
CropAngle | 0 |
CropBottom | 0.84224 |
CropConstrainToWarp | 0 |
CropLeft | 0.258505 |
CropRight | 0.868318 |
CropTop | 0.232427 |
CustomRendered | Normal |
DateCreated (1) | 2014:07:22 |
DateCreated | 2014:07:22 21:43:46 |
DateTimeOriginal | 2014:07:22 21:43:46 |
DefringeGreenAmount | 0 |
DefringeGreenHueHi | 60 |
DefringeGreenHueLo | 40 |
DefringePurpleAmount | 0 |
DefringePurpleHueHi | 70 |
DefringePurpleHueLo | 30 |
DigitalZoomRatio | 1 |
DOF | 0.86 m (23.58 - 24.44 m) |
Exposure2012 | 0.00 |
ExposureCompensation | -2/3 |
ExposureMode | Manual |
ExposureTime | 1/320 |
Firmware | 1.00 |
Flash | Off, Did not fire |
FlashCompensation | 0 |
FNumber | 6.5 |
FocalLength | 215.0 mm |
FocalLength35efl | 215.0 mm (35 mm equivalent: 1200.8 mm) |
Format | image/jpeg |
FOV | 1.7 deg |
GrainAmount | 0 |
GreenHue | 0 |
GreenSaturation | 0 |
HasCrop | True |
HasSettings | True |
Highlights2012 | 0 |
HueAdjustmentAqua | 0 |
HueAdjustmentBlue | 0 |
HueAdjustmentGreen | 0 |
HueAdjustmentMagenta | 0 |
HueAdjustmentOrange | 0 |
HueAdjustmentPurple | 0 |
HueAdjustmentRed | 0 |
HueAdjustmentYellow | 0 |
HyperfocalDistance | 1321.88 m |
ImageHeight | 960 |
ImageSize | 1280x960 |
ImageWidth | 1280 |
ISO | 80 |
Keywords | Natur, Skyer, Tåke, sol |
Lens | 4.3-215.0 mm |
LensInfo | 4.3-215mm f/? |
LensManualDistortionAmount | 0 |
LensModel | 4.3-215.0 mm |
LensProfileEnable | 0 |
LensProfileSetup | LensDefaults |
LightValue | 14.0 |
LuminanceAdjustmentAqua | 0 |
LuminanceAdjustmentBlue | 0 |
LuminanceAdjustmentGreen | 0 |
LuminanceAdjustmentMagenta | 0 |
LuminanceAdjustmentOrange | 0 |
LuminanceAdjustmentPurple | 0 |
LuminanceAdjustmentRed | 0 |
LuminanceAdjustmentYellow | 0 |
LuminanceSmoothing | 0 |
Make | Canon |
Marked | True |
MaxApertureValue | 6.5 |
Megapixels | 1.2 |
MeteringMode | Multi-segment |
Model | Canon PowerShot SX50 HS |
ModifyDate (1) | 2014:10:09 23:53:20+02:00 |
ModifyDate | 2014:10:09 23:53:20 |
ObjectName | Sunset |
ParametricDarks | -11 |
ParametricHighlights | 0 |
ParametricHighlightSplit | 75 |
ParametricLights | -26 |
ParametricMidtoneSplit | 50 |
ParametricShadows | 0 |
ParametricShadowSplit | 25 |
PerspectiveAspect | 0 |
PerspectiveHorizontal | 0 |
PerspectiveRotate | 0.0 |
PerspectiveScale | 100 |
PerspectiveUpright | 0 |
PerspectiveVertical | 0 |
PostCropVignetteAmount | 0 |
ProcessVersion | 6.7 |
ProfileDescription | sRGB IEC61966-2.1 |
Rating | 5 |
RedHue | 0 |
RedSaturation | 0 |
Rights | Ole Bredesen-Vestby |
Saturation | 0 |
SaturationAdjustmentAqua | 0 |
SaturationAdjustmentBlue | 0 |
SaturationAdjustmentGreen | 0 |
SaturationAdjustmentMagenta | 0 |
SaturationAdjustmentOrange | 0 |
SaturationAdjustmentPurple | 0 |
SaturationAdjustmentRed | 0 |
SaturationAdjustmentYellow | 0 |
ScaleFactor35efl | 5.6 |
SceneCaptureType | Standard |
SensingMethod | One-chip color area |
SensitivityType | Standard Output Sensitivity and Recommended Exposure Index |
Shadows2012 | 0 |
ShadowTint | 0 |
SharpenDetail | 25 |
SharpenEdgeMasking | 0 |
SharpenRadius | +1.0 |
Sharpness | 25 |
ShutterSpeed | 1/320 |
ShutterSpeedValue | 1/320 |
Software | Adobe Photoshop Lightroom 5.6 (Windows) |
SplitToningBalance | 0 |
SplitToningHighlightHue | 0 |
SplitToningHighlightSaturation | 0 |
SplitToningShadowHue | 0 |
SplitToningShadowSaturation | 0 |
Subject | Natur, Skyer, Tåke, sol |
Tint | +5 |
Title | Sunset |
ToneCurve | 0, 0, 255, 255 |
ToneCurveBlue | 0, 0, 255, 255 |
ToneCurveGreen | 0, 0, 255, 255 |
ToneCurveName | Linear |
ToneCurveName2012 | Linear |
ToneCurvePV2012 | 0, 0, 255, 255 |
ToneCurvePV2012Blue | 0, 0, 255, 255 |
ToneCurvePV2012Green | 0, 0, 255, 255 |
ToneCurvePV2012Red | 0, 0, 255, 255 |
ToneCurveRed | 0, 0, 255, 255 |
Version | 8.6 |
Vibrance | 0 |
VignetteAmount | 0 |
WhiteBalance (1) | As Shot |
WhiteBalance | Auto |
Whites2012 | 0 |